BEGIN:VCALENDAR
VERSION:2.0
PRODID:-//Care Mobile | Family Health Centers of Southwest Florida &amp; Ronald McDonald House Charities - ECPv4.9.3.1//NONSGML v1.0//EN
CALSCALE:GREGORIAN
METHOD:PUBLISH
X-WR-CALNAME:Care Mobile | Family Health Centers of Southwest Florida &amp; Ronald McDonald House Charities
X-ORIGINAL-URL:https://caremobile.org
X-WR-CALDESC:Events for Care Mobile | Family Health Centers of Southwest Florida &amp; Ronald McDonald House Charities
BEGIN:VEVENT
DTSTART;VALUE=DATE:20220912
DTEND;VALUE=DATE:20220914
DTSTAMP:20260420T121102
CREATED:20220808T144118Z
LAST-MODIFIED:20220808T144118Z
UID:1058-1662940800-1663113599@caremobile.org
SUMMARY:Labelle Elementary School
DESCRIPTION:
URL:https://caremobile.org/event/labelle-elementary-school-3/
END:VEVENT
END:VCALENDAR